BEGIN:VCALENDAR
VERSION:2.0
PRODID:-//Challenger Series - ECPv6.9.0//NONSGML v1.0//EN
CALSCALE:GREGORIAN
METHOD:PUBLISH
X-ORIGINAL-URL:https://www.challengerseries.net
X-WR-CALDESC:Events for Challenger Series
REFRESH-INTERVAL;VALUE=DURATION:PT1H
X-Robots-Tag:noindex
X-PUBLISHED-TTL:PT1H
BEGIN:VTIMEZONE
TZID:Europe/Berlin
BEGIN:DAYLIGHT
TZOFFSETFROM:+0100
TZOFFSETTO:+0200
TZNAME:CEST
DTSTART:20260329T010000
END:DAYLIGHT
BEGIN:STANDARD
TZOFFSETFROM:+0200
TZOFFSETTO:+0100
TZNAME:CET
DTSTART:20261025T010000
END:STANDARD
END:VTIMEZONE
BEGIN:VEVENT
DTSTART;TZID=Europe/Berlin:20260302T083000
DTEND;TZID=Europe/Berlin:20260303T133000
DTSTAMP:20260423T161602
CREATED:20251023T155942Z
LAST-MODIFIED:20260303T123841Z
UID:1142-1772440200-1772544600@www.challengerseries.net
SUMMARY:Challenger Series 02.03. - 03.03.2026
DESCRIPTION:﻿﻿﻿
URL:https://www.challengerseries.net/tournament/challenger-series-02-03-03-03-2026/
LOCATION:Center Court\, Rottumstraße 1\, Mietingen\, 88487\, Germany
CATEGORIES:Tournaments
ORGANIZER;CN="Challenger Series":MAILTO:info@challengerseries.net
END:VEVENT
BEGIN:VEVENT
DTSTART;TZID=Europe/Berlin:20260305T083000
DTEND;TZID=Europe/Berlin:20260306T133000
DTSTAMP:20260423T161602
CREATED:20251023T160142Z
LAST-MODIFIED:20260306T130036Z
UID:1144-1772699400-1772803800@www.challengerseries.net
SUMMARY:Challenger Series 05.03. - 06.03.2026
DESCRIPTION:﻿﻿﻿
URL:https://www.challengerseries.net/tournament/challenger-series-05-03-06-03-2026/
LOCATION:Center Court\, Rottumstraße 1\, Mietingen\, 88487\, Germany
CATEGORIES:Tournaments
ORGANIZER;CN="Challenger Series":MAILTO:info@challengerseries.net
END:VEVENT
BEGIN:VEVENT
DTSTART;TZID=Europe/Berlin:20260309T083000
DTEND;TZID=Europe/Berlin:20260310T133000
DTSTAMP:20260423T161602
CREATED:20251023T160344Z
LAST-MODIFIED:20260310T130612Z
UID:1146-1773045000-1773149400@www.challengerseries.net
SUMMARY:Challenger Series 09.03. - 10.03.2026
DESCRIPTION:﻿﻿﻿
URL:https://www.challengerseries.net/tournament/challenger-series-09-03-10-03-2026/
LOCATION:Center Court\, Rottumstraße 1\, Mietingen\, 88487\, Germany
CATEGORIES:Tournaments
ORGANIZER;CN="Challenger Series":MAILTO:info@challengerseries.net
END:VEVENT
BEGIN:VEVENT
DTSTART;TZID=Europe/Berlin:20260312T083000
DTEND;TZID=Europe/Berlin:20260313T133000
DTSTAMP:20260423T161602
CREATED:20251023T160512Z
LAST-MODIFIED:20260313T121923Z
UID:1148-1773304200-1773408600@www.challengerseries.net
SUMMARY:Challenger Series 12.03. - 13.03.2026
DESCRIPTION:﻿﻿﻿
URL:https://www.challengerseries.net/tournament/challenger-series-12-03-13-03-2026/
LOCATION:Center Court\, Rottumstraße 1\, Mietingen\, 88487\, Germany
CATEGORIES:Tournaments
ORGANIZER;CN="Challenger Series":MAILTO:info@challengerseries.net
END:VEVENT
BEGIN:VEVENT
DTSTART;TZID=Europe/Berlin:20260316T083000
DTEND;TZID=Europe/Berlin:20260317T133000
DTSTAMP:20260423T161602
CREATED:20251023T160725Z
LAST-MODIFIED:20260317T125625Z
UID:1150-1773649800-1773754200@www.challengerseries.net
SUMMARY:Challenger Series 16.03. - 17.03.2026
DESCRIPTION:﻿﻿﻿
URL:https://www.challengerseries.net/tournament/challenger-series-16-03-17-03-2026/
LOCATION:Center Court\, Rottumstraße 1\, Mietingen\, 88487\, Germany
CATEGORIES:Tournaments
ORGANIZER;CN="Challenger Series":MAILTO:info@challengerseries.net
END:VEVENT
BEGIN:VEVENT
DTSTART;TZID=Europe/Berlin:20260319T083000
DTEND;TZID=Europe/Berlin:20260320T133000
DTSTAMP:20260423T161602
CREATED:20251023T160925Z
LAST-MODIFIED:20260320T131003Z
UID:1152-1773909000-1774013400@www.challengerseries.net
SUMMARY:Challenger Series 19.03. - 20.03.2026
DESCRIPTION:﻿﻿﻿
URL:https://www.challengerseries.net/tournament/challenger-series-19-03-20-03-2026/
LOCATION:Center Court\, Rottumstraße 1\, Mietingen\, 88487\, Germany
CATEGORIES:Tournaments
ORGANIZER;CN="Challenger Series":MAILTO:info@challengerseries.net
END:VEVENT
BEGIN:VEVENT
DTSTART;TZID=Europe/Berlin:20260323T083000
DTEND;TZID=Europe/Berlin:20260324T133000
DTSTAMP:20260423T161602
CREATED:20251023T161223Z
LAST-MODIFIED:20260324T125434Z
UID:1154-1774254600-1774359000@www.challengerseries.net
SUMMARY:Challenger Series 23.03. - 24.03.2026
DESCRIPTION:﻿﻿﻿
URL:https://www.challengerseries.net/tournament/challenger-series-23-03-24-03-2026/
LOCATION:Center Court\, Rottumstraße 1\, Mietingen\, 88487\, Germany
CATEGORIES:Tournaments
ORGANIZER;CN="Challenger Series":MAILTO:info@challengerseries.net
END:VEVENT
BEGIN:VEVENT
DTSTART;TZID=Europe/Berlin:20260330T083000
DTEND;TZID=Europe/Berlin:20260331T133000
DTSTAMP:20260423T161602
CREATED:20251023T161452Z
LAST-MODIFIED:20260331T115742Z
UID:1156-1774859400-1774963800@www.challengerseries.net
SUMMARY:Challenger Series 30.03. - 31.03.2026
DESCRIPTION:﻿﻿﻿
URL:https://www.challengerseries.net/tournament/challenger-series-30-03-31-03-2026/
LOCATION:Center Court\, Rottumstraße 1\, Mietingen\, 88487\, Germany
CATEGORIES:Tournaments
ORGANIZER;CN="Challenger Series":MAILTO:info@challengerseries.net
END:VEVENT
END:VCALENDAR