BEGIN:VCALENDAR
VERSION:2.0
PRODID:-//Challenger Series - ECPv6.9.0//NONSGML v1.0//EN
CALSCALE:GREGORIAN
METHOD:PUBLISH
X-ORIGINAL-URL:https://www.challengerseries.net
X-WR-CALDESC:Events for Challenger Series
REFRESH-INTERVAL;VALUE=DURATION:PT1H
X-Robots-Tag:noindex
X-PUBLISHED-TTL:PT1H
BEGIN:VTIMEZONE
TZID:Europe/Berlin
BEGIN:DAYLIGHT
TZOFFSETFROM:+0100
TZOFFSETTO:+0200
TZNAME:CEST
DTSTART:20250330T010000
END:DAYLIGHT
BEGIN:STANDARD
TZOFFSETFROM:+0200
TZOFFSETTO:+0100
TZNAME:CET
DTSTART:20251026T010000
END:STANDARD
END:VTIMEZONE
BEGIN:VEVENT
DTSTART;TZID=Europe/Berlin:20251201T083000
DTEND;TZID=Europe/Berlin:20251202T133000
DTSTAMP:20260425T135719
CREATED:20250626T090239Z
LAST-MODIFIED:20251202T124052Z
UID:885-1764577800-1764682200@www.challengerseries.net
SUMMARY:Challenger Series 01.12. - 02.12.2025
DESCRIPTION:﻿﻿﻿
URL:https://www.challengerseries.net/tournament/challenger-series-01-12-02-12-2025/
LOCATION:Center Court\, Rottumstraße 1\, Mietingen\, 88487\, Germany
CATEGORIES:Tournaments
ORGANIZER;CN="Challenger Series":MAILTO:info@challengerseries.net
END:VEVENT
BEGIN:VEVENT
DTSTART;TZID=Europe/Berlin:20251204T083000
DTEND;TZID=Europe/Berlin:20251205T133000
DTSTAMP:20260425T135719
CREATED:20250626T090318Z
LAST-MODIFIED:20251205T132441Z
UID:887-1764837000-1764941400@www.challengerseries.net
SUMMARY:Challenger Series 04.12. - 05.12.2025
DESCRIPTION:﻿﻿﻿
URL:https://www.challengerseries.net/tournament/challenger-series-04-12-05-12-2025/
LOCATION:Center Court\, Rottumstraße 1\, Mietingen\, 88487\, Germany
CATEGORIES:Tournaments
ORGANIZER;CN="Challenger Series":MAILTO:info@challengerseries.net
END:VEVENT
BEGIN:VEVENT
DTSTART;TZID=Europe/Berlin:20251208T083000
DTEND;TZID=Europe/Berlin:20251209T133000
DTSTAMP:20260425T135719
CREATED:20250626T090359Z
LAST-MODIFIED:20251209T124356Z
UID:889-1765182600-1765287000@www.challengerseries.net
SUMMARY:Challenger Series 08.12. - 09.12.2025
DESCRIPTION:
URL:https://www.challengerseries.net/tournament/challenger-series-08-12-09-12-2025/
LOCATION:Center Court\, Rottumstraße 1\, Mietingen\, 88487\, Germany
CATEGORIES:Tournaments
ORGANIZER;CN="Challenger Series":MAILTO:info@challengerseries.net
END:VEVENT
BEGIN:VEVENT
DTSTART;TZID=Europe/Berlin:20251215T083000
DTEND;TZID=Europe/Berlin:20251216T133000
DTSTAMP:20260425T135719
CREATED:20250626T090432Z
LAST-MODIFIED:20251216T144009Z
UID:891-1765787400-1765891800@www.challengerseries.net
SUMMARY:Challenger Series 15.12. - 16.12.2025
DESCRIPTION:﻿﻿﻿
URL:https://www.challengerseries.net/tournament/challenger-series-15-12-16-12-2025/
LOCATION:Center Court\, Rottumstraße 1\, Mietingen\, 88487\, Germany
CATEGORIES:Tournaments
ORGANIZER;CN="Challenger Series":MAILTO:info@challengerseries.net
END:VEVENT
BEGIN:VEVENT
DTSTART;TZID=Europe/Berlin:20251218T083000
DTEND;TZID=Europe/Berlin:20251219T133000
DTSTAMP:20260425T135719
CREATED:20250626T090510Z
LAST-MODIFIED:20251219T120254Z
UID:893-1766046600-1766151000@www.challengerseries.net
SUMMARY:Challenger Series 18.12. - 19.12.2025
DESCRIPTION:﻿﻿﻿
URL:https://www.challengerseries.net/tournament/challenger-series-18-12-19-12-2025/
LOCATION:Center Court\, Rottumstraße 1\, Mietingen\, 88487\, Germany
CATEGORIES:Tournaments
ORGANIZER;CN="Challenger Series":MAILTO:info@challengerseries.net
END:VEVENT
BEGIN:VEVENT
DTSTART;TZID=Europe/Berlin:20251222T083000
DTEND;TZID=Europe/Berlin:20251223T133000
DTSTAMP:20260425T135719
CREATED:20250626T090550Z
LAST-MODIFIED:20251223T130235Z
UID:895-1766392200-1766496600@www.challengerseries.net
SUMMARY:Challenger Series 22.12. - 23.12.2025
DESCRIPTION:﻿﻿﻿
URL:https://www.challengerseries.net/tournament/challenger-series-22-12-23-12-2025/
LOCATION:Center Court\, Rottumstraße 1\, Mietingen\, 88487\, Germany
CATEGORIES:Tournaments
ORGANIZER;CN="Challenger Series":MAILTO:info@challengerseries.net
END:VEVENT
END:VCALENDAR