BEGIN:VCALENDAR
VERSION:2.0
PRODID:-//Challenger Series - ECPv6.9.0//NONSGML v1.0//EN
CALSCALE:GREGORIAN
METHOD:PUBLISH
X-WR-CALNAME:Challenger Series
X-ORIGINAL-URL:https://www.challengerseries.net
X-WR-CALDESC:Events for Challenger Series
REFRESH-INTERVAL;VALUE=DURATION:PT1H
X-Robots-Tag:noindex
X-PUBLISHED-TTL:PT1H
BEGIN:VTIMEZONE
TZID:Europe/Berlin
BEGIN:DAYLIGHT
TZOFFSETFROM:+0100
TZOFFSETTO:+0200
TZNAME:CEST
DTSTART:20250330T010000
END:DAYLIGHT
BEGIN:STANDARD
TZOFFSETFROM:+0200
TZOFFSETTO:+0100
TZNAME:CET
DTSTART:20251026T010000
END:STANDARD
END:VTIMEZONE
BEGIN:VEVENT
DTSTART;TZID=Europe/Berlin:20250915T083000
DTEND;TZID=Europe/Berlin:20250916T133000
DTSTAMP:20260424T020910
CREATED:20250625T122800Z
LAST-MODIFIED:20250916T121249Z
UID:851-1757925000-1758029400@www.challengerseries.net
SUMMARY:Challenger Series 15.09. - 16.09.2025
DESCRIPTION:﻿﻿﻿
URL:https://www.challengerseries.net/tournament/challenger-series-15-09-16-09-2025/
LOCATION:Center Court\, Rottumstraße 1\, Mietingen\, 88487\, Germany
CATEGORIES:Tournaments
ORGANIZER;CN="Challenger Series":MAILTO:info@challengerseries.net
END:VEVENT
BEGIN:VEVENT
DTSTART;TZID=Europe/Berlin:20250911T083000
DTEND;TZID=Europe/Berlin:20250912T133000
DTSTAMP:20260424T020910
CREATED:20250625T122704Z
LAST-MODIFIED:20250912T115717Z
UID:849-1757579400-1757683800@www.challengerseries.net
SUMMARY:Challenger Series 11.09. - 12.09.2025
DESCRIPTION:﻿﻿﻿
URL:https://www.challengerseries.net/tournament/challenger-series-11-09-12-09-2025/
LOCATION:Center Court\, Rottumstraße 1\, Mietingen\, 88487\, Germany
CATEGORIES:Tournaments
ORGANIZER;CN="Challenger Series":MAILTO:info@challengerseries.net
END:VEVENT
BEGIN:VEVENT
DTSTART;TZID=Europe/Berlin:20250908T083000
DTEND;TZID=Europe/Berlin:20250909T133000
DTSTAMP:20260424T020910
CREATED:20250625T111454Z
LAST-MODIFIED:20250909T120715Z
UID:847-1757320200-1757424600@www.challengerseries.net
SUMMARY:Challenger Series 08.09. - 09.09.2025
DESCRIPTION:﻿﻿﻿
URL:https://www.challengerseries.net/tournament/challenger-series-08-09-09-09-2025/
LOCATION:Center Court\, Rottumstraße 1\, Mietingen\, 88487\, Germany
CATEGORIES:Tournaments
ORGANIZER;CN="Challenger Series":MAILTO:info@challengerseries.net
END:VEVENT
BEGIN:VEVENT
DTSTART;TZID=Europe/Berlin:20250901T083000
DTEND;TZID=Europe/Berlin:20250902T133000
DTSTAMP:20260424T020910
CREATED:20250625T110917Z
LAST-MODIFIED:20250902T133631Z
UID:845-1756715400-1756819800@www.challengerseries.net
SUMMARY:Challenger Series 01.09. - 02.09.2025
DESCRIPTION:﻿﻿﻿
URL:https://www.challengerseries.net/tournament/challenger-series-01-09-02-09-2025/
LOCATION:Center Court\, Rottumstraße 1\, Mietingen\, 88487\, Germany
CATEGORIES:Tournaments
ORGANIZER;CN="Challenger Series":MAILTO:info@challengerseries.net
END:VEVENT
BEGIN:VEVENT
DTSTART;TZID=Europe/Berlin:20250825T083000
DTEND;TZID=Europe/Berlin:20250826T133000
DTSTAMP:20260424T020910
CREATED:20250625T110549Z
LAST-MODIFIED:20250826T124544Z
UID:843-1756110600-1756215000@www.challengerseries.net
SUMMARY:Challenger Series 25.08. - 26.08.2025
DESCRIPTION:﻿﻿﻿
URL:https://www.challengerseries.net/tournament/challenger-series-25-08-26-08-2025/
LOCATION:Center Court\, Rottumstraße 1\, Mietingen\, 88487\, Germany
CATEGORIES:Tournaments
ORGANIZER;CN="Challenger Series":MAILTO:info@challengerseries.net
END:VEVENT
BEGIN:VEVENT
DTSTART;TZID=Europe/Berlin:20250821T083000
DTEND;TZID=Europe/Berlin:20250822T133000
DTSTAMP:20260424T020910
CREATED:20250625T110503Z
LAST-MODIFIED:20250822T112514Z
UID:841-1755765000-1755869400@www.challengerseries.net
SUMMARY:Challenger Series 21.08. - 22.08.2025
DESCRIPTION:﻿﻿﻿
URL:https://www.challengerseries.net/tournament/challenger-series-21-08-22-08-2025/
LOCATION:Center Court\, Rottumstraße 1\, Mietingen\, 88487\, Germany
CATEGORIES:Tournaments
ORGANIZER;CN="Challenger Series":MAILTO:info@challengerseries.net
END:VEVENT
BEGIN:VEVENT
DTSTART;TZID=Europe/Berlin:20250818T083000
DTEND;TZID=Europe/Berlin:20250819T133000
DTSTAMP:20260424T020910
CREATED:20250625T105329Z
LAST-MODIFIED:20250819T120832Z
UID:839-1755505800-1755610200@www.challengerseries.net
SUMMARY:Challenger Series 18.08. - 19.08.2025
DESCRIPTION:﻿﻿﻿
URL:https://www.challengerseries.net/tournament/challenger-series-18-08-19-08-2025/
LOCATION:Center Court\, Rottumstraße 1\, Mietingen\, 88487\, Germany
CATEGORIES:Tournaments
ORGANIZER;CN="Challenger Series":MAILTO:info@challengerseries.net
END:VEVENT
BEGIN:VEVENT
DTSTART;TZID=Europe/Berlin:20250814T083000
DTEND;TZID=Europe/Berlin:20250815T133000
DTSTAMP:20260424T020910
CREATED:20250625T105245Z
LAST-MODIFIED:20250815T115028Z
UID:837-1755160200-1755264600@www.challengerseries.net
SUMMARY:Challenger Series 14.08. - 15.08.2025
DESCRIPTION:﻿﻿﻿
URL:https://www.challengerseries.net/tournament/challenger-series-14-08-15-08-2025/
LOCATION:Center Court\, Rottumstraße 1\, Mietingen\, 88487\, Germany
CATEGORIES:Tournaments
ORGANIZER;CN="Challenger Series":MAILTO:info@challengerseries.net
END:VEVENT
BEGIN:VEVENT
DTSTART;TZID=Europe/Berlin:20250811T083000
DTEND;TZID=Europe/Berlin:20250812T133000
DTSTAMP:20260424T020910
CREATED:20250625T105026Z
LAST-MODIFIED:20250812T132056Z
UID:834-1754901000-1755005400@www.challengerseries.net
SUMMARY:Challenger Series 11.08. - 12.08.2025
DESCRIPTION:﻿﻿﻿
URL:https://www.challengerseries.net/tournament/challenger-series-11-08-12-08-2025/
LOCATION:Center Court\, Rottumstraße 1\, Mietingen\, 88487\, Germany
CATEGORIES:Tournaments
ORGANIZER;CN="Challenger Series":MAILTO:info@challengerseries.net
END:VEVENT
BEGIN:VEVENT
DTSTART;TZID=Europe/Berlin:20250804T083000
DTEND;TZID=Europe/Berlin:20250805T133000
DTSTAMP:20260424T020910
CREATED:20250625T103655Z
LAST-MODIFIED:20250805T123617Z
UID:832-1754296200-1754400600@www.challengerseries.net
SUMMARY:Challenger Series 04.08. - 05.08.2025
DESCRIPTION:﻿﻿﻿
URL:https://www.challengerseries.net/tournament/challenger-series-04-08-05-08-2025/
LOCATION:Center Court\, Rottumstraße 1\, Mietingen\, 88487\, Germany
CATEGORIES:Tournaments
ORGANIZER;CN="Challenger Series":MAILTO:info@challengerseries.net
END:VEVENT
BEGIN:VEVENT
DTSTART;TZID=Europe/Berlin:20250731T083000
DTEND;TZID=Europe/Berlin:20250801T133000
DTSTAMP:20260424T020910
CREATED:20250625T095558Z
LAST-MODIFIED:20250801T113250Z
UID:830-1753950600-1754055000@www.challengerseries.net
SUMMARY:Challenger Series 31.07. - 01.08.2025
DESCRIPTION:﻿﻿﻿
URL:https://www.challengerseries.net/tournament/challenger-series-31-07-01-08-2025/
LOCATION:Center Court\, Rottumstraße 1\, Mietingen\, 88487\, Germany
CATEGORIES:Tournaments
ORGANIZER;CN="Challenger Series":MAILTO:info@challengerseries.net
END:VEVENT
BEGIN:VEVENT
DTSTART;TZID=Europe/Berlin:20250728T083000
DTEND;TZID=Europe/Berlin:20250729T133000
DTSTAMP:20260424T020910
CREATED:20250625T095512Z
LAST-MODIFIED:20250729T120408Z
UID:828-1753691400-1753795800@www.challengerseries.net
SUMMARY:Challenger Series 28.07. - 29.07.2025
DESCRIPTION:﻿﻿﻿
URL:https://www.challengerseries.net/tournament/challenger-series-28-07-29-07-2025/
LOCATION:Center Court\, Rottumstraße 1\, Mietingen\, 88487\, Germany
CATEGORIES:Tournaments
ORGANIZER;CN="Challenger Series":MAILTO:info@challengerseries.net
END:VEVENT
BEGIN:VEVENT
DTSTART;TZID=Europe/Berlin:20250724T083000
DTEND;TZID=Europe/Berlin:20250725T133000
DTSTAMP:20260424T020910
CREATED:20250625T095425Z
LAST-MODIFIED:20250725T120031Z
UID:826-1753345800-1753450200@www.challengerseries.net
SUMMARY:Challenger Series 24.07. - 25.07.2025
DESCRIPTION:﻿﻿﻿
URL:https://www.challengerseries.net/tournament/challenger-series-24-07-25-07-2025/
LOCATION:Center Court\, Rottumstraße 1\, Mietingen\, 88487\, Germany
CATEGORIES:Tournaments
ORGANIZER;CN="Challenger Series":MAILTO:info@challengerseries.net
END:VEVENT
BEGIN:VEVENT
DTSTART;TZID=Europe/Berlin:20250721T083000
DTEND;TZID=Europe/Berlin:20250722T133000
DTSTAMP:20260424T020910
CREATED:20250625T095333Z
LAST-MODIFIED:20250722T131902Z
UID:824-1753086600-1753191000@www.challengerseries.net
SUMMARY:Challenger Series 21.07. - 22.07.2025
DESCRIPTION:﻿﻿﻿
URL:https://www.challengerseries.net/tournament/challenger-series-21-07-22-07-2025/
LOCATION:Center Court\, Rottumstraße 1\, Mietingen\, 88487\, Germany
CATEGORIES:Tournaments
ORGANIZER;CN="Challenger Series":MAILTO:info@challengerseries.net
END:VEVENT
BEGIN:VEVENT
DTSTART;TZID=Europe/Berlin:20250714T083000
DTEND;TZID=Europe/Berlin:20250715T133000
DTSTAMP:20260424T020910
CREATED:20250625T095241Z
LAST-MODIFIED:20250715T120513Z
UID:822-1752481800-1752586200@www.challengerseries.net
SUMMARY:Challenger Series 14.07. - 15.07.2025
DESCRIPTION:﻿﻿﻿
URL:https://www.challengerseries.net/tournament/challenger-series-14-07-15-07-2025/
LOCATION:Center Court\, Rottumstraße 1\, Mietingen\, 88487\, Germany
CATEGORIES:Tournaments
ORGANIZER;CN="Challenger Series":MAILTO:info@challengerseries.net
END:VEVENT
BEGIN:VEVENT
DTSTART;TZID=Europe/Berlin:20250710T083000
DTEND;TZID=Europe/Berlin:20250711T133000
DTSTAMP:20260424T020910
CREATED:20250625T095023Z
LAST-MODIFIED:20250711T124325Z
UID:820-1752136200-1752240600@www.challengerseries.net
SUMMARY:Challenger Series 10.07. - 11.07.2025
DESCRIPTION:﻿﻿﻿
URL:https://www.challengerseries.net/tournament/challenger-series-10-07-11-07-2025/
LOCATION:Center Court\, Rottumstraße 1\, Mietingen\, 88487\, Germany
CATEGORIES:Tournaments
ORGANIZER;CN="Challenger Series":MAILTO:info@challengerseries.net
END:VEVENT
BEGIN:VEVENT
DTSTART;TZID=Europe/Berlin:20250707T083000
DTEND;TZID=Europe/Berlin:20250708T133000
DTSTAMP:20260424T020910
CREATED:20250611T101319Z
LAST-MODIFIED:20250708T112723Z
UID:806-1751877000-1751981400@www.challengerseries.net
SUMMARY:Challenger Series 07.07. - 08.07.2025
DESCRIPTION:﻿﻿﻿
URL:https://www.challengerseries.net/tournament/challenger-series-07-07-08-07-2025/
LOCATION:Center Court\, Rottumstraße 1\, Mietingen\, 88487\, Germany
CATEGORIES:Tournaments
ORGANIZER;CN="Challenger Series":MAILTO:info@challengerseries.net
END:VEVENT
BEGIN:VEVENT
DTSTART;TZID=Europe/Berlin:20250703T083000
DTEND;TZID=Europe/Berlin:20250704T133000
DTSTAMP:20260424T020911
CREATED:20250605T115133Z
LAST-MODIFIED:20250704T121351Z
UID:795-1751531400-1751635800@www.challengerseries.net
SUMMARY:Challenger Series 03.07. - 04.07.2025
DESCRIPTION:﻿﻿﻿
URL:https://www.challengerseries.net/tournament/challenger-series-03-07-04-07-2025/
LOCATION:Center Court\, Rottumstraße 1\, Mietingen\, 88487\, Germany
CATEGORIES:Tournaments
ORGANIZER;CN="Challenger Series":MAILTO:info@challengerseries.net
END:VEVENT
BEGIN:VEVENT
DTSTART;TZID=Europe/Berlin:20250630T083000
DTEND;TZID=Europe/Berlin:20250701T133000
DTSTAMP:20260424T020911
CREATED:20250109T102600Z
LAST-MODIFIED:20250701T113532Z
UID:641-1751272200-1751376600@www.challengerseries.net
SUMMARY:Challenger Series 30.06. - 01.07.2025
DESCRIPTION:﻿﻿
URL:https://www.challengerseries.net/tournament/challenger-series-30-06-01-07-2025/
LOCATION:Center Court\, Rottumstraße 1\, Mietingen\, 88487\, Germany
CATEGORIES:Tournaments
ORGANIZER;CN="Challenger Series":MAILTO:info@challengerseries.net
END:VEVENT
BEGIN:VEVENT
DTSTART;TZID=Europe/Berlin:20250623T083000
DTEND;TZID=Europe/Berlin:20250624T133000
DTSTAMP:20260424T020911
CREATED:20250109T102522Z
LAST-MODIFIED:20250701T101641Z
UID:639-1750667400-1750771800@www.challengerseries.net
SUMMARY:Challenger Series 23.06. - 24.06.2025
DESCRIPTION:﻿﻿
URL:https://www.challengerseries.net/tournament/challenger-series-23-06-24-06-2025/
LOCATION:Center Court\, Rottumstraße 1\, Mietingen\, 88487\, Germany
CATEGORIES:Tournaments
ORGANIZER;CN="Challenger Series":MAILTO:info@challengerseries.net
END:VEVENT
BEGIN:VEVENT
DTSTART;TZID=Europe/Berlin:20250616T083000
DTEND;TZID=Europe/Berlin:20250617T133000
DTSTAMP:20260424T020911
CREATED:20250109T102429Z
LAST-MODIFIED:20250701T101636Z
UID:637-1750062600-1750167000@www.challengerseries.net
SUMMARY:Challenger Series 16.06. - 17.06.2025
DESCRIPTION:﻿﻿
URL:https://www.challengerseries.net/tournament/challenger-series-16-06-17-06-2025/
LOCATION:Center Court\, Rottumstraße 1\, Mietingen\, 88487\, Germany
CATEGORIES:Tournaments
ORGANIZER;CN="Challenger Series":MAILTO:info@challengerseries.net
END:VEVENT
BEGIN:VEVENT
DTSTART;TZID=Europe/Berlin:20250612T083000
DTEND;TZID=Europe/Berlin:20250613T133000
DTSTAMP:20260424T020911
CREATED:20250109T102345Z
LAST-MODIFIED:20250701T101633Z
UID:635-1749717000-1749821400@www.challengerseries.net
SUMMARY:Challenger Series 12.06. - 13.06.2025
DESCRIPTION:﻿﻿
URL:https://www.challengerseries.net/tournament/challenger-series-12-06-13-06-2025/
LOCATION:Center Court\, Rottumstraße 1\, Mietingen\, 88487\, Germany
CATEGORIES:Tournaments
ORGANIZER;CN="Challenger Series":MAILTO:info@challengerseries.net
END:VEVENT
BEGIN:VEVENT
DTSTART;TZID=Europe/Berlin:20250609T083000
DTEND;TZID=Europe/Berlin:20250610T133000
DTSTAMP:20260424T020911
CREATED:20250109T102304Z
LAST-MODIFIED:20250701T101626Z
UID:633-1749457800-1749562200@www.challengerseries.net
SUMMARY:Challenger Series 09.06. - 10.06.2025
DESCRIPTION:﻿﻿
URL:https://www.challengerseries.net/tournament/challenger-series-09-06-10-06-2025/
LOCATION:Center Court\, Rottumstraße 1\, Mietingen\, 88487\, Germany
CATEGORIES:Tournaments
ORGANIZER;CN="Challenger Series":MAILTO:info@challengerseries.net
END:VEVENT
BEGIN:VEVENT
DTSTART;TZID=Europe/Berlin:20250605T083000
DTEND;TZID=Europe/Berlin:20250606T133000
DTSTAMP:20260424T020911
CREATED:20250109T102224Z
LAST-MODIFIED:20250701T101621Z
UID:631-1749112200-1749216600@www.challengerseries.net
SUMMARY:Challenger Series 05.06. - 06.06.2025
DESCRIPTION:﻿﻿
URL:https://www.challengerseries.net/tournament/challenger-series-05-06-06-06-2025/
LOCATION:Center Court\, Rottumstraße 1\, Mietingen\, 88487\, Germany
CATEGORIES:Tournaments
ORGANIZER;CN="Challenger Series":MAILTO:info@challengerseries.net
END:VEVENT
BEGIN:VEVENT
DTSTART;TZID=Europe/Berlin:20250602T083000
DTEND;TZID=Europe/Berlin:20250603T133000
DTSTAMP:20260424T020911
CREATED:20250109T102143Z
LAST-MODIFIED:20250701T101620Z
UID:629-1748853000-1748957400@www.challengerseries.net
SUMMARY:Challenger Series 02.06. - 03.06.2025
DESCRIPTION:﻿﻿
URL:https://www.challengerseries.net/tournament/challenger-series-02-06-03-06-2025/
LOCATION:Center Court\, Rottumstraße 1\, Mietingen\, 88487\, Germany
CATEGORIES:Tournaments
ORGANIZER;CN="Challenger Series":MAILTO:info@challengerseries.net
END:VEVENT
BEGIN:VEVENT
DTSTART;TZID=Europe/Berlin:20250529T083000
DTEND;TZID=Europe/Berlin:20250530T133000
DTSTAMP:20260424T020911
CREATED:20250109T102051Z
LAST-MODIFIED:20250701T101615Z
UID:627-1748507400-1748611800@www.challengerseries.net
SUMMARY:Challenger Series 29.05. - 30.05.2025
DESCRIPTION:﻿﻿
URL:https://www.challengerseries.net/tournament/challenger-series-29-05-30-05-2025/
LOCATION:Center Court\, Rottumstraße 1\, Mietingen\, 88487\, Germany
CATEGORIES:Tournaments
ORGANIZER;CN="Challenger Series":MAILTO:info@challengerseries.net
END:VEVENT
BEGIN:VEVENT
DTSTART;TZID=Europe/Berlin:20250526T083000
DTEND;TZID=Europe/Berlin:20250527T133000
DTSTAMP:20260424T020911
CREATED:20250109T102007Z
LAST-MODIFIED:20250701T101610Z
UID:625-1748248200-1748352600@www.challengerseries.net
SUMMARY:Challenger Series 26.05. - 27.05.2025
DESCRIPTION:﻿﻿
URL:https://www.challengerseries.net/tournament/challenger-series-26-05-27-05-2025/
LOCATION:Center Court\, Rottumstraße 1\, Mietingen\, 88487\, Germany
CATEGORIES:Tournaments
ORGANIZER;CN="Challenger Series":MAILTO:info@challengerseries.net
END:VEVENT
BEGIN:VEVENT
DTSTART;TZID=Europe/Berlin:20250519T083000
DTEND;TZID=Europe/Berlin:20250520T133000
DTSTAMP:20260424T020911
CREATED:20250109T101930Z
LAST-MODIFIED:20250520T114315Z
UID:623-1747643400-1747747800@www.challengerseries.net
SUMMARY:Challenger Series 19.05. - 20.05.2025
DESCRIPTION:﻿﻿
URL:https://www.challengerseries.net/tournament/challenger-series-19-05-20-05-2025/
LOCATION:Center Court\, Rottumstraße 1\, Mietingen\, 88487\, Germany
CATEGORIES:Tournaments
ORGANIZER;CN="Challenger Series":MAILTO:info@challengerseries.net
END:VEVENT
BEGIN:VEVENT
DTSTART;TZID=Europe/Berlin:20250515T083000
DTEND;TZID=Europe/Berlin:20250516T133000
DTSTAMP:20260424T020911
CREATED:20250109T101857Z
LAST-MODIFIED:20250701T101606Z
UID:621-1747297800-1747402200@www.challengerseries.net
SUMMARY:Challenger Series 15.05. - 16.05.2025
DESCRIPTION:﻿﻿
URL:https://www.challengerseries.net/tournament/challenger-series-15-05-16-05-2025/
LOCATION:Center Court\, Rottumstraße 1\, Mietingen\, 88487\, Germany
CATEGORIES:Tournaments
ORGANIZER;CN="Challenger Series":MAILTO:info@challengerseries.net
END:VEVENT
BEGIN:VEVENT
DTSTART;TZID=Europe/Berlin:20250512T083000
DTEND;TZID=Europe/Berlin:20250513T133000
DTSTAMP:20260424T020911
CREATED:20250109T101815Z
LAST-MODIFIED:20250701T101600Z
UID:619-1747038600-1747143000@www.challengerseries.net
SUMMARY:Challenger Series 12.05. - 13.05.2025
DESCRIPTION:﻿﻿
URL:https://www.challengerseries.net/tournament/challenger-series-12-05-13-05-2025/
LOCATION:Center Court\, Rottumstraße 1\, Mietingen\, 88487\, Germany
CATEGORIES:Tournaments
ORGANIZER;CN="Challenger Series":MAILTO:info@challengerseries.net
END:VEVENT
END:VCALENDAR