BEGIN:VCALENDAR
VERSION:2.0
PRODID:-//Challenger Series - ECPv6.9.0//NONSGML v1.0//EN
CALSCALE:GREGORIAN
METHOD:PUBLISH
X-WR-CALNAME:Challenger Series
X-ORIGINAL-URL:https://www.challengerseries.net
X-WR-CALDESC:Events for Challenger Series
REFRESH-INTERVAL;VALUE=DURATION:PT1H
X-Robots-Tag:noindex
X-PUBLISHED-TTL:PT1H
BEGIN:VTIMEZONE
TZID:Europe/Berlin
BEGIN:DAYLIGHT
TZOFFSETFROM:+0100
TZOFFSETTO:+0200
TZNAME:CEST
DTSTART:20240331T010000
END:DAYLIGHT
BEGIN:STANDARD
TZOFFSETFROM:+0200
TZOFFSETTO:+0100
TZNAME:CET
DTSTART:20241027T010000
END:STANDARD
END:VTIMEZONE
BEGIN:VEVENT
DTSTART;TZID=Europe/Berlin:20240708T083000
DTEND;TZID=Europe/Berlin:20240709T133000
DTSTAMP:20260424T160214
CREATED:20240620T184033Z
LAST-MODIFIED:20250701T081847Z
UID:92-1720427400-1720531800@www.challengerseries.net
SUMMARY:Challenger Series 08.07. - 09.07.2024
DESCRIPTION:
URL:https://www.challengerseries.net/tournament/challenger-series-08-07-09-07/
LOCATION:Center Court\, Rottumstraße 1\, Mietingen\, 88487\, Germany
CATEGORIES:Tournaments
ORGANIZER;CN="Challenger Series":MAILTO:info@challengerseries.net
END:VEVENT
BEGIN:VEVENT
DTSTART;TZID=Europe/Berlin:20240704T083000
DTEND;TZID=Europe/Berlin:20240705T133000
DTSTAMP:20260424T160214
CREATED:20240620T183945Z
LAST-MODIFIED:20250701T081820Z
UID:90-1720081800-1720186200@www.challengerseries.net
SUMMARY:Challenger Series 04.07. - 05.07.2024
DESCRIPTION:
URL:https://www.challengerseries.net/tournament/challenger-series-04-07-05-07/
LOCATION:Center Court\, Rottumstraße 1\, Mietingen\, 88487\, Germany
CATEGORIES:Tournaments
ORGANIZER;CN="Challenger Series":MAILTO:info@challengerseries.net
END:VEVENT
BEGIN:VEVENT
DTSTART;TZID=Europe/Berlin:20240701T083000
DTEND;TZID=Europe/Berlin:20240702T133000
DTSTAMP:20260424T160214
CREATED:20240620T171853Z
LAST-MODIFIED:20250701T081759Z
UID:87-1719822600-1719927000@www.challengerseries.net
SUMMARY:Challenger Series 01.07. - 02.07.2024
DESCRIPTION:
URL:https://www.challengerseries.net/tournament/challenger-series-01-07-02-07/
LOCATION:Center Court\, Rottumstraße 1\, Mietingen\, 88487\, Germany
CATEGORIES:Tournaments
ORGANIZER;CN="Challenger Series":MAILTO:info@challengerseries.net
END:VEVENT
BEGIN:VEVENT
DTSTART;TZID=Europe/Berlin:20240627T083000
DTEND;TZID=Europe/Berlin:20240628T133000
DTSTAMP:20260424T160214
CREATED:20240620T164048Z
LAST-MODIFIED:20250701T081734Z
UID:82-1719477000-1719581400@www.challengerseries.net
SUMMARY:Challenger Series 27.06. - 28.06.2024
DESCRIPTION:
URL:https://www.challengerseries.net/tournament/challenger-series-27-06-28-06-2024/
LOCATION:Center Court\, Rottumstraße 1\, Mietingen\, 88487\, Germany
CATEGORIES:Tournaments
ORGANIZER;CN="Challenger Series":MAILTO:info@challengerseries.net
END:VEVENT
BEGIN:VEVENT
DTSTART;TZID=Europe/Berlin:20240624T083000
DTEND;TZID=Europe/Berlin:20240625T133000
DTSTAMP:20260424T160214
CREATED:20240620T130224Z
LAST-MODIFIED:20250701T081712Z
UID:36-1719217800-1719322200@www.challengerseries.net
SUMMARY:Challenger Series 24.06. - 25.06.2024
DESCRIPTION: 
URL:https://www.challengerseries.net/tournament/24-06-25-06-2024/
LOCATION:Center Court\, Rottumstraße 1\, Mietingen\, 88487\, Germany
CATEGORIES:Tournaments
ORGANIZER;CN="Challenger Series":MAILTO:info@challengerseries.net
END:VEVENT
BEGIN:VEVENT
DTSTART;TZID=Europe/Berlin:20240618T083000
DTEND;TZID=Europe/Berlin:20240618T223000
DTSTAMP:20260424T160214
CREATED:20240620T223133Z
LAST-MODIFIED:20250701T081633Z
UID:196-1718699400-1718749800@www.challengerseries.net
SUMMARY:Challenger Series 18.06.2024
DESCRIPTION:
URL:https://www.challengerseries.net/tournament/challenger-series-18-06/
LOCATION:Center Court\, Rottumstraße 1\, Mietingen\, 88487\, Germany
CATEGORIES:Tournaments
ORGANIZER;CN="Challenger Series":MAILTO:info@challengerseries.net
END:VEVENT
END:VCALENDAR