BEGIN:VCALENDAR
VERSION:2.0
PRODID:-//Challenger Series - ECPv6.9.0//NONSGML v1.0//EN
CALSCALE:GREGORIAN
METHOD:PUBLISH
X-WR-CALNAME:Challenger Series
X-ORIGINAL-URL:https://www.challengerseries.net
X-WR-CALDESC:Events for Challenger Series
REFRESH-INTERVAL;VALUE=DURATION:PT1H
X-Robots-Tag:noindex
X-PUBLISHED-TTL:PT1H
BEGIN:VTIMEZONE
TZID:Europe/Berlin
BEGIN:DAYLIGHT
TZOFFSETFROM:+0100
TZOFFSETTO:+0200
TZNAME:CEST
DTSTART:20240331T010000
END:DAYLIGHT
BEGIN:STANDARD
TZOFFSETFROM:+0200
TZOFFSETTO:+0100
TZNAME:CET
DTSTART:20241027T010000
END:STANDARD
END:VTIMEZONE
BEGIN:VEVENT
DTSTART;TZID=Europe/Berlin:20241021T083000
DTEND;TZID=Europe/Berlin:20241022T133000
DTSTAMP:20260424T152953
CREATED:20240905T084454Z
LAST-MODIFIED:20250701T100802Z
UID:406-1729499400-1729603800@www.challengerseries.net
SUMMARY:Challenger Series 21.10. - 22.10.2024
DESCRIPTION:
URL:https://www.challengerseries.net/tournament/challenger-series-21-10-22-10-2024/
LOCATION:Center Court\, Rottumstraße 1\, Mietingen\, 88487\, Germany
CATEGORIES:Tournaments
ORGANIZER;CN="Challenger Series":MAILTO:info@challengerseries.net
END:VEVENT
BEGIN:VEVENT
DTSTART;TZID=Europe/Berlin:20241017T083000
DTEND;TZID=Europe/Berlin:20241018T133000
DTSTAMP:20260424T152953
CREATED:20240905T084402Z
LAST-MODIFIED:20250701T095243Z
UID:404-1729153800-1729258200@www.challengerseries.net
SUMMARY:Challenger Series 17.10. - 18.10.2024
DESCRIPTION:
URL:https://www.challengerseries.net/tournament/challenger-series-17-10-18-10-2024/
LOCATION:Center Court\, Rottumstraße 1\, Mietingen\, 88487\, Germany
CATEGORIES:Tournaments
ORGANIZER;CN="Challenger Series":MAILTO:info@challengerseries.net
END:VEVENT
BEGIN:VEVENT
DTSTART;TZID=Europe/Berlin:20241014T083000
DTEND;TZID=Europe/Berlin:20241015T133000
DTSTAMP:20260424T152953
CREATED:20240905T084247Z
LAST-MODIFIED:20250701T095219Z
UID:402-1728894600-1728999000@www.challengerseries.net
SUMMARY:Challenger Series 14.10. - 15.10.2024
DESCRIPTION:﻿﻿
URL:https://www.challengerseries.net/tournament/challenger-series-14-10-15-10-2024/
LOCATION:Center Court\, Rottumstraße 1\, Mietingen\, 88487\, Germany
CATEGORIES:Tournaments
ORGANIZER;CN="Challenger Series":MAILTO:info@challengerseries.net
END:VEVENT
BEGIN:VEVENT
DTSTART;TZID=Europe/Berlin:20241007T083000
DTEND;TZID=Europe/Berlin:20241008T133000
DTSTAMP:20260424T152953
CREATED:20240709T074942Z
LAST-MODIFIED:20250701T095201Z
UID:314-1728289800-1728394200@www.challengerseries.net
SUMMARY:Challenger Series 07.10. - 08.10.2024
DESCRIPTION:﻿﻿
URL:https://www.challengerseries.net/tournament/challenger-series-07-10-08-10/
LOCATION:Center Court\, Rottumstraße 1\, Mietingen\, 88487\, Germany
CATEGORIES:Tournaments
ORGANIZER;CN="Challenger Series":MAILTO:info@challengerseries.net
END:VEVENT
BEGIN:VEVENT
DTSTART;TZID=Europe/Berlin:20241003T083000
DTEND;TZID=Europe/Berlin:20241004T133000
DTSTAMP:20260424T152953
CREATED:20240709T074646Z
LAST-MODIFIED:20250701T095140Z
UID:312-1727944200-1728048600@www.challengerseries.net
SUMMARY:Challenger Series 03.10. - 04.10.2024
DESCRIPTION:﻿﻿
URL:https://www.challengerseries.net/tournament/challenger-series-03-10-04-10/
LOCATION:Center Court\, Rottumstraße 1\, Mietingen\, 88487\, Germany
CATEGORIES:Tournaments
ORGANIZER;CN="Challenger Series":MAILTO:info@challengerseries.net
END:VEVENT
BEGIN:VEVENT
DTSTART;TZID=Europe/Berlin:20240930T083000
DTEND;TZID=Europe/Berlin:20241001T133000
DTSTAMP:20260424T152953
CREATED:20240709T074551Z
LAST-MODIFIED:20250701T095106Z
UID:310-1727685000-1727789400@www.challengerseries.net
SUMMARY:Challenger Series 30.09. - 01.10.2024
DESCRIPTION:
URL:https://www.challengerseries.net/tournament/challenger-series-30-09-01-10/
LOCATION:Center Court\, Rottumstraße 1\, Mietingen\, 88487\, Germany
CATEGORIES:Tournaments
ORGANIZER;CN="Challenger Series":MAILTO:info@challengerseries.net
END:VEVENT
BEGIN:VEVENT
DTSTART;TZID=Europe/Berlin:20240926T083000
DTEND;TZID=Europe/Berlin:20240927T133000
DTSTAMP:20260424T152953
CREATED:20240709T074407Z
LAST-MODIFIED:20250701T095051Z
UID:308-1727339400-1727443800@www.challengerseries.net
SUMMARY:Challenger Series 26.09. - 27.09.2024
DESCRIPTION:﻿﻿
URL:https://www.challengerseries.net/tournament/challenger-series-26-09-27-09/
LOCATION:Center Court\, Rottumstraße 1\, Mietingen\, 88487\, Germany
CATEGORIES:Tournaments
ORGANIZER;CN="Challenger Series":MAILTO:info@challengerseries.net
END:VEVENT
BEGIN:VEVENT
DTSTART;TZID=Europe/Berlin:20240919T083000
DTEND;TZID=Europe/Berlin:20240920T133000
DTSTAMP:20260424T152953
CREATED:20240709T074337Z
LAST-MODIFIED:20250701T085204Z
UID:306-1726734600-1726839000@www.challengerseries.net
SUMMARY:Challenger Series 19.09. - 20.09.2024
DESCRIPTION:
URL:https://www.challengerseries.net/tournament/challenger-series-19-09-20-09/
LOCATION:Center Court\, Rottumstraße 1\, Mietingen\, 88487\, Germany
CATEGORIES:Tournaments
ORGANIZER;CN="Challenger Series":MAILTO:info@challengerseries.net
END:VEVENT
BEGIN:VEVENT
DTSTART;TZID=Europe/Berlin:20240916T083000
DTEND;TZID=Europe/Berlin:20240917T133000
DTSTAMP:20260424T152953
CREATED:20240709T074300Z
LAST-MODIFIED:20250701T085144Z
UID:304-1726475400-1726579800@www.challengerseries.net
SUMMARY:Challenger Series 16.09. - 17.09.2024
DESCRIPTION:﻿﻿
URL:https://www.challengerseries.net/tournament/challenger-series-16-09-17-09/
LOCATION:Center Court\, Rottumstraße 1\, Mietingen\, 88487\, Germany
CATEGORIES:Tournaments
ORGANIZER;CN="Challenger Series":MAILTO:info@challengerseries.net
END:VEVENT
BEGIN:VEVENT
DTSTART;TZID=Europe/Berlin:20240912T083000
DTEND;TZID=Europe/Berlin:20240913T133000
DTSTAMP:20260424T152953
CREATED:20240709T074210Z
LAST-MODIFIED:20250701T085129Z
UID:302-1726129800-1726234200@www.challengerseries.net
SUMMARY:Challenger Series 12.09. - 13.09.2024
DESCRIPTION:﻿﻿
URL:https://www.challengerseries.net/tournament/challenger-series-12-09-13-09/
LOCATION:Center Court\, Rottumstraße 1\, Mietingen\, 88487\, Germany
CATEGORIES:Tournaments
ORGANIZER;CN="Challenger Series":MAILTO:info@challengerseries.net
END:VEVENT
BEGIN:VEVENT
DTSTART;TZID=Europe/Berlin:20240909T083000
DTEND;TZID=Europe/Berlin:20240910T133000
DTSTAMP:20260424T152953
CREATED:20240709T074132Z
LAST-MODIFIED:20250701T085110Z
UID:300-1725870600-1725975000@www.challengerseries.net
SUMMARY:Challenger Series 09.09. - 10.09.2024
DESCRIPTION:﻿﻿﻿
URL:https://www.challengerseries.net/tournament/challenger-series-09-09-10-09/
LOCATION:Center Court\, Rottumstraße 1\, Mietingen\, 88487\, Germany
CATEGORIES:Tournaments
ORGANIZER;CN="Challenger Series":MAILTO:info@challengerseries.net
END:VEVENT
BEGIN:VEVENT
DTSTART;TZID=Europe/Berlin:20240905T083000
DTEND;TZID=Europe/Berlin:20240906T133000
DTSTAMP:20260424T152953
CREATED:20240709T074048Z
LAST-MODIFIED:20250701T085043Z
UID:298-1725525000-1725629400@www.challengerseries.net
SUMMARY:Challenger Series 05.09. - 06.09.2024
DESCRIPTION:
URL:https://www.challengerseries.net/tournament/challenger-series-05-09-06-09/
LOCATION:Center Court\, Rottumstraße 1\, Mietingen\, 88487\, Germany
CATEGORIES:Tournaments
ORGANIZER;CN="Challenger Series":MAILTO:info@challengerseries.net
END:VEVENT
BEGIN:VEVENT
DTSTART;TZID=Europe/Berlin:20240902T083000
DTEND;TZID=Europe/Berlin:20240903T133000
DTSTAMP:20260424T152953
CREATED:20240709T074004Z
LAST-MODIFIED:20250701T085020Z
UID:296-1725265800-1725370200@www.challengerseries.net
SUMMARY:Challenger Series 02.09. - 03.09.2024
DESCRIPTION:﻿﻿
URL:https://www.challengerseries.net/tournament/challenger-series-02-09-03-09/
LOCATION:Center Court\, Rottumstraße 1\, Mietingen\, 88487\, Germany
CATEGORIES:Tournaments
ORGANIZER;CN="Challenger Series":MAILTO:info@challengerseries.net
END:VEVENT
BEGIN:VEVENT
DTSTART;TZID=Europe/Berlin:20240829T083000
DTEND;TZID=Europe/Berlin:20240830T133000
DTSTAMP:20260424T152953
CREATED:20240709T072800Z
LAST-MODIFIED:20250701T085005Z
UID:293-1724920200-1725024600@www.challengerseries.net
SUMMARY:Challenger Series 29.08. - 30.08.2024
DESCRIPTION:
URL:https://www.challengerseries.net/tournament/challenger-series-29-08-30-08/
LOCATION:Center Court\, Rottumstraße 1\, Mietingen\, 88487\, Germany
CATEGORIES:Tournaments
ORGANIZER;CN="Challenger Series":MAILTO:info@challengerseries.net
END:VEVENT
BEGIN:VEVENT
DTSTART;TZID=Europe/Berlin:20240822T083000
DTEND;TZID=Europe/Berlin:20240823T133000
DTSTAMP:20260424T152953
CREATED:20240709T071953Z
LAST-MODIFIED:20250701T084949Z
UID:291-1724315400-1724419800@www.challengerseries.net
SUMMARY:Challenger Series 22.08. - 23.08.2024
DESCRIPTION:﻿﻿
URL:https://www.challengerseries.net/tournament/challenger-series-22-08-23-08/
LOCATION:Center Court\, Rottumstraße 1\, Mietingen\, 88487\, Germany
CATEGORIES:Tournaments
ORGANIZER;CN="Challenger Series":MAILTO:info@challengerseries.net
END:VEVENT
BEGIN:VEVENT
DTSTART;TZID=Europe/Berlin:20240819T083000
DTEND;TZID=Europe/Berlin:20240820T133000
DTSTAMP:20260424T152953
CREATED:20240709T071913Z
LAST-MODIFIED:20250701T084740Z
UID:289-1724056200-1724160600@www.challengerseries.net
SUMMARY:Challenger Series 19.08. - 20.08.2024
DESCRIPTION:
URL:https://www.challengerseries.net/tournament/challenger-series-19-08-20-08/
LOCATION:Center Court\, Rottumstraße 1\, Mietingen\, 88487\, Germany
CATEGORIES:Tournaments
ORGANIZER;CN="Challenger Series":MAILTO:info@challengerseries.net
END:VEVENT
BEGIN:VEVENT
DTSTART;TZID=Europe/Berlin:20240815T083000
DTEND;TZID=Europe/Berlin:20240816T133000
DTSTAMP:20260424T152953
CREATED:20240709T071833Z
LAST-MODIFIED:20250701T084719Z
UID:287-1723710600-1723815000@www.challengerseries.net
SUMMARY:Challenger Series 15.08. - 16.08.2024
DESCRIPTION:
URL:https://www.challengerseries.net/tournament/challenger-series-15-08-16-08/
LOCATION:Center Court\, Rottumstraße 1\, Mietingen\, 88487\, Germany
CATEGORIES:Tournaments
ORGANIZER;CN="Challenger Series":MAILTO:info@challengerseries.net
END:VEVENT
BEGIN:VEVENT
DTSTART;TZID=Europe/Berlin:20240812T083000
DTEND;TZID=Europe/Berlin:20240813T133000
DTSTAMP:20260424T152953
CREATED:20240709T071747Z
LAST-MODIFIED:20250701T082217Z
UID:285-1723451400-1723555800@www.challengerseries.net
SUMMARY:Challenger Series 12.08. - 13.08.2024
DESCRIPTION:
URL:https://www.challengerseries.net/tournament/challenger-series-12-08-13-08/
LOCATION:Center Court\, Rottumstraße 1\, Mietingen\, 88487\, Germany
CATEGORIES:Tournaments
ORGANIZER;CN="Challenger Series":MAILTO:info@challengerseries.net
END:VEVENT
BEGIN:VEVENT
DTSTART;TZID=Europe/Berlin:20240808T083000
DTEND;TZID=Europe/Berlin:20240809T133000
DTSTAMP:20260424T152953
CREATED:20240709T071709Z
LAST-MODIFIED:20250701T082202Z
UID:283-1723105800-1723210200@www.challengerseries.net
SUMMARY:Challenger Series 08.08. - 09.08.2024
DESCRIPTION:
URL:https://www.challengerseries.net/tournament/challenger-series-08-08-09-08/
LOCATION:Center Court\, Rottumstraße 1\, Mietingen\, 88487\, Germany
CATEGORIES:Tournaments
ORGANIZER;CN="Challenger Series":MAILTO:info@challengerseries.net
END:VEVENT
BEGIN:VEVENT
DTSTART;TZID=Europe/Berlin:20240805T083000
DTEND;TZID=Europe/Berlin:20240806T133000
DTSTAMP:20260424T152953
CREATED:20240709T071543Z
LAST-MODIFIED:20250701T082138Z
UID:279-1722846600-1722951000@www.challengerseries.net
SUMMARY:Challenger Series 05.08. - 06.08.2024
DESCRIPTION:
URL:https://www.challengerseries.net/tournament/05-08-06-08-2024/
LOCATION:Center Court\, Rottumstraße 1\, Mietingen\, 88487\, Germany
CATEGORIES:Tournaments
ORGANIZER;CN="Challenger Series":MAILTO:info@challengerseries.net
END:VEVENT
BEGIN:VEVENT
DTSTART;TZID=Europe/Berlin:20240729T083000
DTEND;TZID=Europe/Berlin:20240730T133000
DTSTAMP:20260424T152953
CREATED:20240620T184703Z
LAST-MODIFIED:20250701T082105Z
UID:100-1722241800-1722346200@www.challengerseries.net
SUMMARY:Challenger Series 29.07. - 30.07.2024
DESCRIPTION:
URL:https://www.challengerseries.net/tournament/challenger-series-29-07-30-07/
LOCATION:Center Court\, Rottumstraße 1\, Mietingen\, 88487\, Germany
CATEGORIES:Tournaments
ORGANIZER;CN="Challenger Series":MAILTO:info@challengerseries.net
END:VEVENT
BEGIN:VEVENT
DTSTART;TZID=Europe/Berlin:20240722T083000
DTEND;TZID=Europe/Berlin:20240723T133000
DTSTAMP:20260424T152953
CREATED:20240620T184618Z
LAST-MODIFIED:20250701T082043Z
UID:98-1721637000-1721741400@www.challengerseries.net
SUMMARY:Challenger Series 22.07. - 23.07.2024
DESCRIPTION:
URL:https://www.challengerseries.net/tournament/challenger-series-22-07-23-07/
LOCATION:Center Court\, Rottumstraße 1\, Mietingen\, 88487\, Germany
CATEGORIES:Tournaments
ORGANIZER;CN="Challenger Series":MAILTO:info@challengerseries.net
END:VEVENT
BEGIN:VEVENT
DTSTART;TZID=Europe/Berlin:20240715T083000
DTEND;TZID=Europe/Berlin:20240716T133000
DTSTAMP:20260424T152953
CREATED:20240620T184527Z
LAST-MODIFIED:20250701T082019Z
UID:96-1721032200-1721136600@www.challengerseries.net
SUMMARY:Challenger Series 15.07. - 16.07.2024
DESCRIPTION:﻿﻿
URL:https://www.challengerseries.net/tournament/challenger-series-15-07-16-07/
LOCATION:Center Court\, Rottumstraße 1\, Mietingen\, 88487\, Germany
CATEGORIES:Tournaments
ORGANIZER;CN="Challenger Series":MAILTO:info@challengerseries.net
END:VEVENT
BEGIN:VEVENT
DTSTART;TZID=Europe/Berlin:20240711T083000
DTEND;TZID=Europe/Berlin:20240712T133000
DTSTAMP:20260424T152953
CREATED:20240620T184113Z
LAST-MODIFIED:20250701T081909Z
UID:94-1720686600-1720791000@www.challengerseries.net
SUMMARY:Challenger Series 11.07. - 12.07.2024
DESCRIPTION:
URL:https://www.challengerseries.net/tournament/challenger-series-11-07-12-07/
LOCATION:Center Court\, Rottumstraße 1\, Mietingen\, 88487\, Germany
CATEGORIES:Tournaments
ORGANIZER;CN="Challenger Series":MAILTO:info@challengerseries.net
END:VEVENT
BEGIN:VEVENT
DTSTART;TZID=Europe/Berlin:20240708T083000
DTEND;TZID=Europe/Berlin:20240709T133000
DTSTAMP:20260424T152953
CREATED:20240620T184033Z
LAST-MODIFIED:20250701T081847Z
UID:92-1720427400-1720531800@www.challengerseries.net
SUMMARY:Challenger Series 08.07. - 09.07.2024
DESCRIPTION:
URL:https://www.challengerseries.net/tournament/challenger-series-08-07-09-07/
LOCATION:Center Court\, Rottumstraße 1\, Mietingen\, 88487\, Germany
CATEGORIES:Tournaments
ORGANIZER;CN="Challenger Series":MAILTO:info@challengerseries.net
END:VEVENT
BEGIN:VEVENT
DTSTART;TZID=Europe/Berlin:20240704T083000
DTEND;TZID=Europe/Berlin:20240705T133000
DTSTAMP:20260424T152953
CREATED:20240620T183945Z
LAST-MODIFIED:20250701T081820Z
UID:90-1720081800-1720186200@www.challengerseries.net
SUMMARY:Challenger Series 04.07. - 05.07.2024
DESCRIPTION:
URL:https://www.challengerseries.net/tournament/challenger-series-04-07-05-07/
LOCATION:Center Court\, Rottumstraße 1\, Mietingen\, 88487\, Germany
CATEGORIES:Tournaments
ORGANIZER;CN="Challenger Series":MAILTO:info@challengerseries.net
END:VEVENT
BEGIN:VEVENT
DTSTART;TZID=Europe/Berlin:20240701T083000
DTEND;TZID=Europe/Berlin:20240702T133000
DTSTAMP:20260424T152953
CREATED:20240620T171853Z
LAST-MODIFIED:20250701T081759Z
UID:87-1719822600-1719927000@www.challengerseries.net
SUMMARY:Challenger Series 01.07. - 02.07.2024
DESCRIPTION:
URL:https://www.challengerseries.net/tournament/challenger-series-01-07-02-07/
LOCATION:Center Court\, Rottumstraße 1\, Mietingen\, 88487\, Germany
CATEGORIES:Tournaments
ORGANIZER;CN="Challenger Series":MAILTO:info@challengerseries.net
END:VEVENT
BEGIN:VEVENT
DTSTART;TZID=Europe/Berlin:20240627T083000
DTEND;TZID=Europe/Berlin:20240628T133000
DTSTAMP:20260424T152953
CREATED:20240620T164048Z
LAST-MODIFIED:20250701T081734Z
UID:82-1719477000-1719581400@www.challengerseries.net
SUMMARY:Challenger Series 27.06. - 28.06.2024
DESCRIPTION:
URL:https://www.challengerseries.net/tournament/challenger-series-27-06-28-06-2024/
LOCATION:Center Court\, Rottumstraße 1\, Mietingen\, 88487\, Germany
CATEGORIES:Tournaments
ORGANIZER;CN="Challenger Series":MAILTO:info@challengerseries.net
END:VEVENT
BEGIN:VEVENT
DTSTART;TZID=Europe/Berlin:20240624T083000
DTEND;TZID=Europe/Berlin:20240625T133000
DTSTAMP:20260424T152953
CREATED:20240620T130224Z
LAST-MODIFIED:20250701T081712Z
UID:36-1719217800-1719322200@www.challengerseries.net
SUMMARY:Challenger Series 24.06. - 25.06.2024
DESCRIPTION: 
URL:https://www.challengerseries.net/tournament/24-06-25-06-2024/
LOCATION:Center Court\, Rottumstraße 1\, Mietingen\, 88487\, Germany
CATEGORIES:Tournaments
ORGANIZER;CN="Challenger Series":MAILTO:info@challengerseries.net
END:VEVENT
BEGIN:VEVENT
DTSTART;TZID=Europe/Berlin:20240618T083000
DTEND;TZID=Europe/Berlin:20240618T223000
DTSTAMP:20260424T152953
CREATED:20240620T223133Z
LAST-MODIFIED:20250701T081633Z
UID:196-1718699400-1718749800@www.challengerseries.net
SUMMARY:Challenger Series 18.06.2024
DESCRIPTION:
URL:https://www.challengerseries.net/tournament/challenger-series-18-06/
LOCATION:Center Court\, Rottumstraße 1\, Mietingen\, 88487\, Germany
CATEGORIES:Tournaments
ORGANIZER;CN="Challenger Series":MAILTO:info@challengerseries.net
END:VEVENT
END:VCALENDAR