BEGIN:VCALENDAR
VERSION:2.0
PRODID:-//Challenger Series - ECPv6.9.0//NONSGML v1.0//EN
CALSCALE:GREGORIAN
METHOD:PUBLISH
X-ORIGINAL-URL:https://www.challengerseries.net
X-WR-CALDESC:Events for Challenger Series
REFRESH-INTERVAL;VALUE=DURATION:PT1H
X-Robots-Tag:noindex
X-PUBLISHED-TTL:PT1H
BEGIN:VTIMEZONE
TZID:Europe/Berlin
BEGIN:DAYLIGHT
TZOFFSETFROM:+0100
TZOFFSETTO:+0200
TZNAME:CEST
DTSTART:20260329T010000
END:DAYLIGHT
BEGIN:STANDARD
TZOFFSETFROM:+0200
TZOFFSETTO:+0100
TZNAME:CET
DTSTART:20261025T010000
END:STANDARD
END:VTIMEZONE
BEGIN:VEVENT
DTSTART;TZID=Europe/Berlin:20260223T083000
DTEND;TZID=Europe/Berlin:20260224T133000
DTSTAMP:20260424T001453
CREATED:20251020T104808Z
LAST-MODIFIED:20260224T121837Z
UID:1130-1771835400-1771939800@www.challengerseries.net
SUMMARY:Challenger Series 23.02. - 24.02.2026
DESCRIPTION:﻿﻿﻿
URL:https://www.challengerseries.net/tournament/challenger-series-23-02-24-02-2026/
LOCATION:Center Court\, Rottumstraße 1\, Mietingen\, 88487\, Germany
CATEGORIES:Tournaments
ORGANIZER;CN="Challenger Series":MAILTO:info@challengerseries.net
END:VEVENT
BEGIN:VEVENT
DTSTART;TZID=Europe/Berlin:20260226T083000
DTEND;TZID=Europe/Berlin:20260227T133000
DTSTAMP:20260424T001453
CREATED:20251020T105357Z
LAST-MODIFIED:20260227T124328Z
UID:1132-1772094600-1772199000@www.challengerseries.net
SUMMARY:Challenger Series 26.02. - 27.02.2026
DESCRIPTION:﻿﻿﻿
URL:https://www.challengerseries.net/tournament/challenger-series-26-02-27-02-2026/
LOCATION:Center Court\, Rottumstraße 1\, Mietingen\, 88487\, Germany
CATEGORIES:Tournaments
ORGANIZER;CN="Challenger Series":MAILTO:info@challengerseries.net
END:VEVENT
BEGIN:VEVENT
DTSTART;TZID=Europe/Berlin:20260302T083000
DTEND;TZID=Europe/Berlin:20260303T133000
DTSTAMP:20260424T001453
CREATED:20251023T155942Z
LAST-MODIFIED:20260303T123841Z
UID:1142-1772440200-1772544600@www.challengerseries.net
SUMMARY:Challenger Series 02.03. - 03.03.2026
DESCRIPTION:﻿﻿﻿
URL:https://www.challengerseries.net/tournament/challenger-series-02-03-03-03-2026/
LOCATION:Center Court\, Rottumstraße 1\, Mietingen\, 88487\, Germany
CATEGORIES:Tournaments
ORGANIZER;CN="Challenger Series":MAILTO:info@challengerseries.net
END:VEVENT
BEGIN:VEVENT
DTSTART;TZID=Europe/Berlin:20260305T083000
DTEND;TZID=Europe/Berlin:20260306T133000
DTSTAMP:20260424T001453
CREATED:20251023T160142Z
LAST-MODIFIED:20260306T130036Z
UID:1144-1772699400-1772803800@www.challengerseries.net
SUMMARY:Challenger Series 05.03. - 06.03.2026
DESCRIPTION:﻿﻿﻿
URL:https://www.challengerseries.net/tournament/challenger-series-05-03-06-03-2026/
LOCATION:Center Court\, Rottumstraße 1\, Mietingen\, 88487\, Germany
CATEGORIES:Tournaments
ORGANIZER;CN="Challenger Series":MAILTO:info@challengerseries.net
END:VEVENT
BEGIN:VEVENT
DTSTART;TZID=Europe/Berlin:20260309T083000
DTEND;TZID=Europe/Berlin:20260310T133000
DTSTAMP:20260424T001453
CREATED:20251023T160344Z
LAST-MODIFIED:20260310T130612Z
UID:1146-1773045000-1773149400@www.challengerseries.net
SUMMARY:Challenger Series 09.03. - 10.03.2026
DESCRIPTION:﻿﻿﻿
URL:https://www.challengerseries.net/tournament/challenger-series-09-03-10-03-2026/
LOCATION:Center Court\, Rottumstraße 1\, Mietingen\, 88487\, Germany
CATEGORIES:Tournaments
ORGANIZER;CN="Challenger Series":MAILTO:info@challengerseries.net
END:VEVENT
BEGIN:VEVENT
DTSTART;TZID=Europe/Berlin:20260312T083000
DTEND;TZID=Europe/Berlin:20260313T133000
DTSTAMP:20260424T001453
CREATED:20251023T160512Z
LAST-MODIFIED:20260313T121923Z
UID:1148-1773304200-1773408600@www.challengerseries.net
SUMMARY:Challenger Series 12.03. - 13.03.2026
DESCRIPTION:﻿﻿﻿
URL:https://www.challengerseries.net/tournament/challenger-series-12-03-13-03-2026/
LOCATION:Center Court\, Rottumstraße 1\, Mietingen\, 88487\, Germany
CATEGORIES:Tournaments
ORGANIZER;CN="Challenger Series":MAILTO:info@challengerseries.net
END:VEVENT
BEGIN:VEVENT
DTSTART;TZID=Europe/Berlin:20260316T083000
DTEND;TZID=Europe/Berlin:20260317T133000
DTSTAMP:20260424T001453
CREATED:20251023T160725Z
LAST-MODIFIED:20260317T125625Z
UID:1150-1773649800-1773754200@www.challengerseries.net
SUMMARY:Challenger Series 16.03. - 17.03.2026
DESCRIPTION:﻿﻿﻿
URL:https://www.challengerseries.net/tournament/challenger-series-16-03-17-03-2026/
LOCATION:Center Court\, Rottumstraße 1\, Mietingen\, 88487\, Germany
CATEGORIES:Tournaments
ORGANIZER;CN="Challenger Series":MAILTO:info@challengerseries.net
END:VEVENT
BEGIN:VEVENT
DTSTART;TZID=Europe/Berlin:20260319T083000
DTEND;TZID=Europe/Berlin:20260320T133000
DTSTAMP:20260424T001453
CREATED:20251023T160925Z
LAST-MODIFIED:20260320T131003Z
UID:1152-1773909000-1774013400@www.challengerseries.net
SUMMARY:Challenger Series 19.03. - 20.03.2026
DESCRIPTION:﻿﻿﻿
URL:https://www.challengerseries.net/tournament/challenger-series-19-03-20-03-2026/
LOCATION:Center Court\, Rottumstraße 1\, Mietingen\, 88487\, Germany
CATEGORIES:Tournaments
ORGANIZER;CN="Challenger Series":MAILTO:info@challengerseries.net
END:VEVENT
BEGIN:VEVENT
DTSTART;TZID=Europe/Berlin:20260323T083000
DTEND;TZID=Europe/Berlin:20260324T133000
DTSTAMP:20260424T001453
CREATED:20251023T161223Z
LAST-MODIFIED:20260324T125434Z
UID:1154-1774254600-1774359000@www.challengerseries.net
SUMMARY:Challenger Series 23.03. - 24.03.2026
DESCRIPTION:﻿﻿﻿
URL:https://www.challengerseries.net/tournament/challenger-series-23-03-24-03-2026/
LOCATION:Center Court\, Rottumstraße 1\, Mietingen\, 88487\, Germany
CATEGORIES:Tournaments
ORGANIZER;CN="Challenger Series":MAILTO:info@challengerseries.net
END:VEVENT
BEGIN:VEVENT
DTSTART;TZID=Europe/Berlin:20260330T083000
DTEND;TZID=Europe/Berlin:20260331T133000
DTSTAMP:20260424T001453
CREATED:20251023T161452Z
LAST-MODIFIED:20260331T115742Z
UID:1156-1774859400-1774963800@www.challengerseries.net
SUMMARY:Challenger Series 30.03. - 31.03.2026
DESCRIPTION:﻿﻿﻿
URL:https://www.challengerseries.net/tournament/challenger-series-30-03-31-03-2026/
LOCATION:Center Court\, Rottumstraße 1\, Mietingen\, 88487\, Germany
CATEGORIES:Tournaments
ORGANIZER;CN="Challenger Series":MAILTO:info@challengerseries.net
END:VEVENT
BEGIN:VEVENT
DTSTART;TZID=Europe/Berlin:20260402T083000
DTEND;TZID=Europe/Berlin:20260403T133000
DTSTAMP:20260424T001453
CREATED:20251023T161537Z
LAST-MODIFIED:20260403T105339Z
UID:1158-1775118600-1775223000@www.challengerseries.net
SUMMARY:Challenger Series 02.04. - 03.04.2026
DESCRIPTION:﻿﻿﻿
URL:https://www.challengerseries.net/tournament/challenger-series-02-04-03-04-2026/
LOCATION:Center Court\, Rottumstraße 1\, Mietingen\, 88487\, Germany
CATEGORIES:Tournaments
ORGANIZER;CN="Challenger Series":MAILTO:info@challengerseries.net
END:VEVENT
BEGIN:VEVENT
DTSTART;TZID=Europe/Berlin:20260406T083000
DTEND;TZID=Europe/Berlin:20260407T133000
DTSTAMP:20260424T001453
CREATED:20260309T092149Z
LAST-MODIFIED:20260407T114815Z
UID:1303-1775464200-1775568600@www.challengerseries.net
SUMMARY:Challenger Series 06.04. - 07.04.2026
DESCRIPTION:﻿﻿﻿﻿﻿
URL:https://www.challengerseries.net/tournament/challenger-series-06-04-07-04-2026/
LOCATION:Center Court\, Rottumstraße 1\, Mietingen\, 88487\, Germany
CATEGORIES:Tournaments
ORGANIZER;CN="Challenger Series":MAILTO:info@challengerseries.net
END:VEVENT
BEGIN:VEVENT
DTSTART;TZID=Europe/Berlin:20260409T083000
DTEND;TZID=Europe/Berlin:20260410T133000
DTSTAMP:20260424T001453
CREATED:20260309T092304Z
LAST-MODIFIED:20260410T110624Z
UID:1306-1775723400-1775827800@www.challengerseries.net
SUMMARY:Challenger Series 09.04. - 10.04.2026
DESCRIPTION:﻿﻿﻿﻿
URL:https://www.challengerseries.net/tournament/challenger-series-09-04-10-04-2026/
LOCATION:Center Court\, Rottumstraße 1\, Mietingen\, 88487\, Germany
CATEGORIES:Tournaments
ORGANIZER;CN="Challenger Series":MAILTO:info@challengerseries.net
END:VEVENT
BEGIN:VEVENT
DTSTART;TZID=Europe/Berlin:20260413T083000
DTEND;TZID=Europe/Berlin:20260414T133000
DTSTAMP:20260424T001453
CREATED:20260309T092355Z
LAST-MODIFIED:20260414T115836Z
UID:1308-1776069000-1776173400@www.challengerseries.net
SUMMARY:Challenger Series 13.04. - 14.04.2026
DESCRIPTION:﻿﻿﻿﻿
URL:https://www.challengerseries.net/tournament/challenger-series-13-04-14-04-2026/
LOCATION:Center Court\, Rottumstraße 1\, Mietingen\, 88487\, Germany
CATEGORIES:Tournaments
ORGANIZER;CN="Challenger Series":MAILTO:info@challengerseries.net
END:VEVENT
BEGIN:VEVENT
DTSTART;TZID=Europe/Berlin:20260416T083000
DTEND;TZID=Europe/Berlin:20260417T133000
DTSTAMP:20260424T001453
CREATED:20260309T092441Z
LAST-MODIFIED:20260417T121842Z
UID:1310-1776328200-1776432600@www.challengerseries.net
SUMMARY:Challenger Series 16.04. - 17.04.2026
DESCRIPTION:﻿﻿﻿﻿ \n \n \n  \n  \n 
URL:https://www.challengerseries.net/tournament/challenger-series-16-04-17-04-2026/
LOCATION:Center Court\, Rottumstraße 1\, Mietingen\, 88487\, Germany
CATEGORIES:Tournaments
ORGANIZER;CN="Challenger Series":MAILTO:info@challengerseries.net
END:VEVENT
BEGIN:VEVENT
DTSTART;TZID=Europe/Berlin:20260420T083000
DTEND;TZID=Europe/Berlin:20260421T133000
DTSTAMP:20260424T001453
CREATED:20260309T092525Z
LAST-MODIFIED:20260421T122820Z
UID:1312-1776673800-1776778200@www.challengerseries.net
SUMMARY:Challenger Series 20.04. - 21.04.2026
DESCRIPTION:﻿﻿﻿﻿ \n \n  \n  \n 
URL:https://www.challengerseries.net/tournament/20-04-21-04-2026/
LOCATION:Center Court\, Rottumstraße 1\, Mietingen\, 88487\, Germany
CATEGORIES:Tournaments
ORGANIZER;CN="Challenger Series":MAILTO:info@challengerseries.net
END:VEVENT
BEGIN:VEVENT
DTSTART;TZID=Europe/Berlin:20260427T083000
DTEND;TZID=Europe/Berlin:20260428T133000
DTSTAMP:20260424T001453
CREATED:20260309T092635Z
LAST-MODIFIED:20260309T092635Z
UID:1315-1777278600-1777383000@www.challengerseries.net
SUMMARY:Challenger Series 27.04. - 28.04.2026
DESCRIPTION:﻿﻿﻿﻿
URL:https://www.challengerseries.net/tournament/challenger-series-27-04-28-04-2026/
LOCATION:Center Court\, Rottumstraße 1\, Mietingen\, 88487\, Germany
CATEGORIES:Tournaments
ORGANIZER;CN="Challenger Series":MAILTO:info@challengerseries.net
END:VEVENT
BEGIN:VEVENT
DTSTART;TZID=Europe/Berlin:20260430T083000
DTEND;TZID=Europe/Berlin:20260501T133000
DTSTAMP:20260424T001453
CREATED:20260309T092743Z
LAST-MODIFIED:20260309T092743Z
UID:1317-1777537800-1777642200@www.challengerseries.net
SUMMARY:Challenger Series 30.04. - 01.05.2026
DESCRIPTION:﻿﻿﻿﻿
URL:https://www.challengerseries.net/tournament/challenger-series-30-04-01-05-2026/
LOCATION:Center Court\, Rottumstraße 1\, Mietingen\, 88487\, Germany
CATEGORIES:Tournaments
ORGANIZER;CN="Challenger Series":MAILTO:info@challengerseries.net
END:VEVENT
BEGIN:VEVENT
DTSTART;TZID=Europe/Berlin:20260504T083000
DTEND;TZID=Europe/Berlin:20260505T133000
DTSTAMP:20260424T001453
CREATED:20260309T092825Z
LAST-MODIFIED:20260309T092825Z
UID:1319-1777883400-1777987800@www.challengerseries.net
SUMMARY:Challenger Series 04.05. - 05.05.2026
DESCRIPTION:﻿﻿﻿﻿
URL:https://www.challengerseries.net/tournament/challenger-series-04-05-05-05-2026/
LOCATION:Center Court\, Rottumstraße 1\, Mietingen\, 88487\, Germany
CATEGORIES:Tournaments
ORGANIZER;CN="Challenger Series":MAILTO:info@challengerseries.net
END:VEVENT
BEGIN:VEVENT
DTSTART;TZID=Europe/Berlin:20260507T083000
DTEND;TZID=Europe/Berlin:20260508T133000
DTSTAMP:20260424T001453
CREATED:20260309T092918Z
LAST-MODIFIED:20260309T092918Z
UID:1321-1778142600-1778247000@www.challengerseries.net
SUMMARY:Challenger Series 07.05. - 08.05.2026
DESCRIPTION:﻿﻿﻿﻿
URL:https://www.challengerseries.net/tournament/challenger-series-07-05-08-05-2026/
LOCATION:Center Court\, Rottumstraße 1\, Mietingen\, 88487\, Germany
CATEGORIES:Tournaments
ORGANIZER;CN="Challenger Series":MAILTO:info@challengerseries.net
END:VEVENT
BEGIN:VEVENT
DTSTART;TZID=Europe/Berlin:20260511T083000
DTEND;TZID=Europe/Berlin:20260512T133000
DTSTAMP:20260424T001453
CREATED:20260309T092956Z
LAST-MODIFIED:20260309T092956Z
UID:1323-1778488200-1778592600@www.challengerseries.net
SUMMARY:Challenger Series 11.05. - 12.05.2026
DESCRIPTION:﻿﻿﻿﻿
URL:https://www.challengerseries.net/tournament/challenger-series-11-05-12-05-2026/
LOCATION:Center Court\, Rottumstraße 1\, Mietingen\, 88487\, Germany
CATEGORIES:Tournaments
ORGANIZER;CN="Challenger Series":MAILTO:info@challengerseries.net
END:VEVENT
BEGIN:VEVENT
DTSTART;TZID=Europe/Berlin:20260514T083000
DTEND;TZID=Europe/Berlin:20260515T133000
DTSTAMP:20260424T001453
CREATED:20260309T093047Z
LAST-MODIFIED:20260309T093047Z
UID:1325-1778747400-1778851800@www.challengerseries.net
SUMMARY:Challenger Series 14.05. - 15.05.2026
DESCRIPTION:﻿﻿﻿﻿
URL:https://www.challengerseries.net/tournament/challenger-series-14-05-15-05-2026/
LOCATION:Center Court\, Rottumstraße 1\, Mietingen\, 88487\, Germany
CATEGORIES:Tournaments
ORGANIZER;CN="Challenger Series":MAILTO:info@challengerseries.net
END:VEVENT
BEGIN:VEVENT
DTSTART;TZID=Europe/Berlin:20260518T083000
DTEND;TZID=Europe/Berlin:20260519T133000
DTSTAMP:20260424T001453
CREATED:20260309T093133Z
LAST-MODIFIED:20260309T093133Z
UID:1327-1779093000-1779197400@www.challengerseries.net
SUMMARY:Challenger Series 18.05. - 19.05.2026
DESCRIPTION:﻿﻿﻿﻿
URL:https://www.challengerseries.net/tournament/challenger-series-18-05-19-05-2026/
LOCATION:Center Court\, Rottumstraße 1\, Mietingen\, 88487\, Germany
CATEGORIES:Tournaments
ORGANIZER;CN="Challenger Series":MAILTO:info@challengerseries.net
END:VEVENT
BEGIN:VEVENT
DTSTART;TZID=Europe/Berlin:20260521T083000
DTEND;TZID=Europe/Berlin:20260522T133000
DTSTAMP:20260424T001453
CREATED:20260309T093212Z
LAST-MODIFIED:20260309T093212Z
UID:1329-1779352200-1779456600@www.challengerseries.net
SUMMARY:Challenger Series 21.05. - 22.05.2026
DESCRIPTION:﻿﻿﻿﻿
URL:https://www.challengerseries.net/tournament/challenger-series-21-05-22-05-2026/
LOCATION:Center Court\, Rottumstraße 1\, Mietingen\, 88487\, Germany
CATEGORIES:Tournaments
ORGANIZER;CN="Challenger Series":MAILTO:info@challengerseries.net
END:VEVENT
BEGIN:VEVENT
DTSTART;TZID=Europe/Berlin:20260525T083000
DTEND;TZID=Europe/Berlin:20260526T133000
DTSTAMP:20260424T001453
CREATED:20260309T093251Z
LAST-MODIFIED:20260309T093251Z
UID:1331-1779697800-1779802200@www.challengerseries.net
SUMMARY:Challenger Series 25.05. - 26.05.2026
DESCRIPTION:﻿﻿﻿﻿
URL:https://www.challengerseries.net/tournament/challenger-series-25-05-26-05-2026/
LOCATION:Center Court\, Rottumstraße 1\, Mietingen\, 88487\, Germany
CATEGORIES:Tournaments
ORGANIZER;CN="Challenger Series":MAILTO:info@challengerseries.net
END:VEVENT
BEGIN:VEVENT
DTSTART;TZID=Europe/Berlin:20260601T083000
DTEND;TZID=Europe/Berlin:20260602T133000
DTSTAMP:20260424T001453
CREATED:20260309T093336Z
LAST-MODIFIED:20260309T093336Z
UID:1333-1780302600-1780407000@www.challengerseries.net
SUMMARY:Challenger Series 01.06. - 02.06.2026
DESCRIPTION:﻿﻿﻿﻿
URL:https://www.challengerseries.net/tournament/challenger-series-01-06-02-06-2026/
LOCATION:Center Court\, Rottumstraße 1\, Mietingen\, 88487\, Germany
CATEGORIES:Tournaments
ORGANIZER;CN="Challenger Series":MAILTO:info@challengerseries.net
END:VEVENT
BEGIN:VEVENT
DTSTART;TZID=Europe/Berlin:20260608T083000
DTEND;TZID=Europe/Berlin:20260609T133000
DTSTAMP:20260424T001453
CREATED:20260309T093417Z
LAST-MODIFIED:20260309T093417Z
UID:1335-1780907400-1781011800@www.challengerseries.net
SUMMARY:Challenger Series 08.06. - 09.06.2026
DESCRIPTION:﻿﻿﻿﻿
URL:https://www.challengerseries.net/tournament/challenger-series-08-06-09-06-2026/
LOCATION:Center Court\, Rottumstraße 1\, Mietingen\, 88487\, Germany
CATEGORIES:Tournaments
ORGANIZER;CN="Challenger Series":MAILTO:info@challengerseries.net
END:VEVENT
BEGIN:VEVENT
DTSTART;TZID=Europe/Berlin:20260615T083000
DTEND;TZID=Europe/Berlin:20260616T133000
DTSTAMP:20260424T001453
CREATED:20260309T093458Z
LAST-MODIFIED:20260309T093458Z
UID:1337-1781512200-1781616600@www.challengerseries.net
SUMMARY:Challenger Series 15.06. - 16.06.2026
DESCRIPTION:﻿﻿﻿﻿
URL:https://www.challengerseries.net/tournament/challenger-series-15-06-16-06-2026/
LOCATION:Center Court\, Rottumstraße 1\, Mietingen\, 88487\, Germany
CATEGORIES:Tournaments
ORGANIZER;CN="Challenger Series":MAILTO:info@challengerseries.net
END:VEVENT
BEGIN:VEVENT
DTSTART;TZID=Europe/Berlin:20260618T083000
DTEND;TZID=Europe/Berlin:20260619T133000
DTSTAMP:20260424T001453
CREATED:20260309T093555Z
LAST-MODIFIED:20260309T093555Z
UID:1339-1781771400-1781875800@www.challengerseries.net
SUMMARY:Challenger Series 18.06. - 19.06.2026
DESCRIPTION:﻿﻿﻿﻿
URL:https://www.challengerseries.net/tournament/challenger-series-18-06-19-06-2026/
LOCATION:Center Court\, Rottumstraße 1\, Mietingen\, 88487\, Germany
CATEGORIES:Tournaments
ORGANIZER;CN="Challenger Series":MAILTO:info@challengerseries.net
END:VEVENT
BEGIN:VEVENT
DTSTART;TZID=Europe/Berlin:20260622T083000
DTEND;TZID=Europe/Berlin:20260623T133000
DTSTAMP:20260424T001453
CREATED:20260309T093710Z
LAST-MODIFIED:20260309T093710Z
UID:1341-1782117000-1782221400@www.challengerseries.net
SUMMARY:Challenger Series 22.06. - 23.06.2026
DESCRIPTION:﻿﻿﻿﻿
URL:https://www.challengerseries.net/tournament/challenger-series-22-06-23-06-2026/
LOCATION:Center Court\, Rottumstraße 1\, Mietingen\, 88487\, Germany
CATEGORIES:Tournaments
ORGANIZER;CN="Challenger Series":MAILTO:info@challengerseries.net
END:VEVENT
END:VCALENDAR